BEGIN:VCALENDAR
VERSION:2.0
PRODID:-//CNCA 06 - ECPv6.15.20//NONSGML v1.0//EN
CALSCALE:GREGORIAN
METHOD:PUBLISH
X-WR-CALNAME:CNCA 06
X-ORIGINAL-URL:https://www.cnca06.org
X-WR-CALDESC:Events for CNCA 06
REFRESH-INTERVAL;VALUE=DURATION:PT1H
X-Robots-Tag:noindex
X-PUBLISHED-TTL:PT1H
BEGIN:VTIMEZONE
TZID:America/Los_Angeles
BEGIN:DAYLIGHT
TZOFFSETFROM:-0800
TZOFFSETTO:-0700
TZNAME:PDT
DTSTART:20250309T100000
END:DAYLIGHT
BEGIN:STANDARD
TZOFFSETFROM:-0700
TZOFFSETTO:-0800
TZNAME:PST
DTSTART:20251102T090000
END:STANDARD
BEGIN:DAYLIGHT
TZOFFSETFROM:-0800
TZOFFSETTO:-0700
TZNAME:PDT
DTSTART:20260308T100000
END:DAYLIGHT
BEGIN:STANDARD
TZOFFSETFROM:-0700
TZOFFSETTO:-0800
TZNAME:PST
DTSTART:20261101T090000
END:STANDARD
BEGIN:DAYLIGHT
TZOFFSETFROM:-0800
TZOFFSETTO:-0700
TZNAME:PDT
DTSTART:20270314T100000
END:DAYLIGHT
BEGIN:STANDARD
TZOFFSETFROM:-0700
TZOFFSETTO:-0800
TZNAME:PST
DTSTART:20271107T090000
END:STANDARD
END:VTIMEZONE
BEGIN:VEVENT
DTSTART;TZID=America/Los_Angeles:20260422T190000
DTEND;TZID=America/Los_Angeles:20260422T200000
DTSTAMP:20260422T032347
CREATED:20250413T021734Z
LAST-MODIFIED:20260411T214913Z
UID:10000749-1776884400-1776888000@www.cnca06.org
SUMMARY:Interpretation & Translation / Traducción e interpretación
DESCRIPTION:Interpretation & Translation / Interpretación y Traducción \nThe committee meeting is held the fourth Wednesday of every month at 7:00pm via Zoom.  In the months of November and December the committee will meet on the 3rd Wednesday of the month.  All are welcome to attend.  Zoom meeting ID:  964 6132 5139. \n  \nLa reunión del comité se lleva a cabo el cuarto miércoles de cada mes a las 7:00 p.m. a través de Zoom. En los meses de noviembre y diciembre el comité se reunirá el 3er miércoles de cada mes.  Todos son bienvenidos a asistir. ID de la reunión de Zoom: 964 6132 5139.
URL:https://www.cnca06.org/event/interpretation-translation-interpretacion-y-traduccion/2026-04-22
LOCATION:Zoom 964 6132 5139
CATEGORIES:Committees
END:VEVENT
END:VCALENDAR