BEGIN:VCALENDAR
VERSION:2.0
PRODID:-//CNCA 06 - ECPv6.15.20//NONSGML v1.0//EN
CALSCALE:GREGORIAN
METHOD:PUBLISH
X-WR-CALNAME:CNCA 06
X-ORIGINAL-URL:https://www.cnca06.org
X-WR-CALDESC:Events for CNCA 06
REFRESH-INTERVAL;VALUE=DURATION:PT1H
X-Robots-Tag:noindex
X-PUBLISHED-TTL:PT1H
BEGIN:VTIMEZONE
TZID:America/Los_Angeles
BEGIN:DAYLIGHT
TZOFFSETFROM:-0800
TZOFFSETTO:-0700
TZNAME:PDT
DTSTART:20250309T100000
END:DAYLIGHT
BEGIN:STANDARD
TZOFFSETFROM:-0700
TZOFFSETTO:-0800
TZNAME:PST
DTSTART:20251102T090000
END:STANDARD
BEGIN:DAYLIGHT
TZOFFSETFROM:-0800
TZOFFSETTO:-0700
TZNAME:PDT
DTSTART:20260308T100000
END:DAYLIGHT
BEGIN:STANDARD
TZOFFSETFROM:-0700
TZOFFSETTO:-0800
TZNAME:PST
DTSTART:20261101T090000
END:STANDARD
BEGIN:DAYLIGHT
TZOFFSETFROM:-0800
TZOFFSETTO:-0700
TZNAME:PDT
DTSTART:20270314T100000
END:DAYLIGHT
BEGIN:STANDARD
TZOFFSETFROM:-0700
TZOFFSETTO:-0800
TZNAME:PST
DTSTART:20271107T090000
END:STANDARD
END:VTIMEZONE
BEGIN:VEVENT
DTSTART;TZID=America/Los_Angeles:20260423T190000
DTEND;TZID=America/Los_Angeles:20260423T200000
DTSTAMP:20260423T051432
CREATED:20250412T232232Z
LAST-MODIFIED:20260411T215043Z
UID:10000773-1776970800-1776974400@www.cnca06.org
SUMMARY:Bridging the Gap / Uniendo orillas
DESCRIPTION:Bridging the Gap / Uniendo Las Orillas \nBridging the gap meets virtually on the 4th Thursday of each month at 7:00pm – 8:00pm via Zoom. In November and December Bridging the Gap will meet on the 3rd Thursday of the month.  Zoom meeting ID: 988 7891 7593 \n  \nBridging the gap se reúne virtualmente el 4º jueves de cada mes a las 7:00 p.m. – 8:00 p.m. a través de Zoom. En noviembre y diciembre\, Bridging the Gap se reunirá el 3er jueves de cada mes.  ID de la reunión de Zoom: 988 7891 7593
URL:https://www.cnca06.org/event/bridging-the-gap-uniendo-las-orillas-3/2026-04-23
LOCATION:Zoom: 988 7891 7593
CATEGORIES:Committees
END:VEVENT
END:VCALENDAR