BEGIN:VCALENDAR
VERSION:2.0
PRODID:-//CNCA 06 - ECPv6.15.20//NONSGML v1.0//EN
CALSCALE:GREGORIAN
METHOD:PUBLISH
X-ORIGINAL-URL:https://www.cnca06.org
X-WR-CALDESC:Events for CNCA 06
REFRESH-INTERVAL;VALUE=DURATION:PT1H
X-Robots-Tag:noindex
X-PUBLISHED-TTL:PT1H
BEGIN:VTIMEZONE
TZID:America/Los_Angeles
BEGIN:DAYLIGHT
TZOFFSETFROM:-0800
TZOFFSETTO:-0700
TZNAME:PDT
DTSTART:20230312T100000
END:DAYLIGHT
BEGIN:STANDARD
TZOFFSETFROM:-0700
TZOFFSETTO:-0800
TZNAME:PST
DTSTART:20231105T090000
END:STANDARD
BEGIN:DAYLIGHT
TZOFFSETFROM:-0800
TZOFFSETTO:-0700
TZNAME:PDT
DTSTART:20240310T100000
END:DAYLIGHT
BEGIN:STANDARD
TZOFFSETFROM:-0700
TZOFFSETTO:-0800
TZNAME:PST
DTSTART:20241103T090000
END:STANDARD
BEGIN:DAYLIGHT
TZOFFSETFROM:-0800
TZOFFSETTO:-0700
TZNAME:PDT
DTSTART:20250309T100000
END:DAYLIGHT
BEGIN:STANDARD
TZOFFSETFROM:-0700
TZOFFSETTO:-0800
TZNAME:PST
DTSTART:20251102T090000
END:STANDARD
END:VTIMEZONE
BEGIN:VEVENT
DTSTART;TZID=America/Los_Angeles:20241109T080000
DTEND;TZID=America/Los_Angeles:20241109T180000
DTSTAMP:20260424T073731
CREATED:20240813T011244Z
LAST-MODIFIED:20241106T181804Z
UID:10000445-1731139200-1731175200@www.cnca06.org
SUMMARY:Election Assembly 2024 / Asamblea de Elecciones 2024
DESCRIPTION:Election Assembly 2024 / Asamblea de Elecciones 2024 \n  \nSaturday November 9\, 2024 \n\n\n\nCornerstone Fellowship of Livermore \n\n\n\n\n\n\n348 N Canyons Pkwy. \nLivermore\, CA 94551 \n\n\n\nAGENDA: Click Here \nFLYER: Click here \nAssembly FAQ: Click here \n  \nSábado 9 de Noviembre del 2024 \n\n\n\n\n\n\nCornerstone Fellowship of Livermore \n\n\n\n\n\n\n348 N Canyons Pkwy. \nLivermore\, CA 94551 \n\n\n\n\n\n\nAGENDA: Haga clic aqui \nVOLANTE: Haga clic aqui \nPreguntas frecuentes de la Asamblea: Haga clic aqui \n 
URL:https://www.cnca06.org/event/election-assembly-2024-asamblea-de-elecciones-2024
LOCATION:Cornerstone Fellowship of Livermore\, 348 N Canyons Pkwy.\, Livermore\, CA\, CA\, 94551\, United States
CATEGORIES:Assembly
END:VEVENT
END:VCALENDAR