BEGIN:VCALENDAR
VERSION:2.0
PRODID:-//CNCA 06 - ECPv6.15.20//NONSGML v1.0//EN
CALSCALE:GREGORIAN
METHOD:PUBLISH
X-WR-CALNAME:CNCA 06
X-ORIGINAL-URL:https://www.cnca06.org
X-WR-CALDESC:Events for CNCA 06
REFRESH-INTERVAL;VALUE=DURATION:PT1H
X-Robots-Tag:noindex
X-PUBLISHED-TTL:PT1H
BEGIN:VTIMEZONE
TZID:America/Los_Angeles
BEGIN:DAYLIGHT
TZOFFSETFROM:-0800
TZOFFSETTO:-0700
TZNAME:PDT
DTSTART:20250309T100000
END:DAYLIGHT
BEGIN:STANDARD
TZOFFSETFROM:-0700
TZOFFSETTO:-0800
TZNAME:PST
DTSTART:20251102T090000
END:STANDARD
BEGIN:DAYLIGHT
TZOFFSETFROM:-0800
TZOFFSETTO:-0700
TZNAME:PDT
DTSTART:20260308T100000
END:DAYLIGHT
BEGIN:STANDARD
TZOFFSETFROM:-0700
TZOFFSETTO:-0800
TZNAME:PST
DTSTART:20261101T090000
END:STANDARD
BEGIN:DAYLIGHT
TZOFFSETFROM:-0800
TZOFFSETTO:-0700
TZNAME:PDT
DTSTART:20270314T100000
END:DAYLIGHT
BEGIN:STANDARD
TZOFFSETFROM:-0700
TZOFFSETTO:-0800
TZNAME:PST
DTSTART:20271107T090000
END:STANDARD
END:VTIMEZONE
BEGIN:VEVENT
DTSTART;TZID=America/Los_Angeles:20260423T190000
DTEND;TZID=America/Los_Angeles:20260423T200000
DTSTAMP:20260423T051341
CREATED:20250412T232232Z
LAST-MODIFIED:20260411T215043Z
UID:10000773-1776970800-1776974400@www.cnca06.org
SUMMARY:Bridging the Gap / Uniendo orillas
DESCRIPTION:Bridging the Gap / Uniendo Las Orillas \nBridging the gap meets virtually on the 4th Thursday of each month at 7:00pm – 8:00pm via Zoom. In November and December Bridging the Gap will meet on the 3rd Thursday of the month.  Zoom meeting ID: 988 7891 7593 \n  \nBridging the gap se reúne virtualmente el 4º jueves de cada mes a las 7:00 p.m. – 8:00 p.m. a través de Zoom. En noviembre y diciembre\, Bridging the Gap se reunirá el 3er jueves de cada mes.  ID de la reunión de Zoom: 988 7891 7593
URL:https://www.cnca06.org/event/bridging-the-gap-uniendo-las-orillas-3/2026-04-23
LOCATION:Zoom: 988 7891 7593
CATEGORIES:Committees
END:VEVENT
BEGIN:VEVENT
DTSTART;TZID=America/Los_Angeles:20260425T090000
DTEND;TZID=America/Los_Angeles:20260425T100000
DTSTAMP:20260423T051341
CREATED:20260119T224759Z
LAST-MODIFIED:20260119T224759Z
UID:10000690-1777107600-1777111200@www.cnca06.org
SUMMARY:Public Information / Cooperation with the Professional Community Committee / Comité de Información Pública / Cooperación con la Comunidad Profesional
DESCRIPTION:Public Information / Cooperation with the Professional Community Committee / Comité de Información Pública / Cooperación con la Comunidad Profesional \n  \nPublic Information / Cooperation with the Professional Community ( PI/CPC ) Committee ( HYBRID ) – meets at 9:00am on the 3rd Saturday in February and December\, and the 4th Saturday all other months of the year. \nAddress: Petaluma Community Center\, 320 N. McDowell Blvd.\, Petaluma\, CA 94954. \nZoom meeting ID: 568 947 843. \n  \nComité de Información Pública / Cooperación con la Comunidad Profesional ( PI/CPC ) ( HYBRID ) – se reúne a las 9:00 h. el tercer sábado de febrero y diciembre\, y el cuarto sábado los demás meses del año. \nDirección: Petaluma Community Center\, 320 N. McDowell Blvd.\, Petaluma\, CA 94954. \nID de la reunión de Zoom: 568 947 843.
URL:https://www.cnca06.org/event/public-information-cooperation-with-the-professional-community-committee-comite-de-informacion-publica-cooperacion-con-la-comunidad-profesional-2/2026-04-25
LOCATION:320 N McDowell Blvd Petaluma\, CA
CATEGORIES:Committees
END:VEVENT
BEGIN:VEVENT
DTSTART;TZID=America/Los_Angeles:20260425T100000
DTEND;TZID=America/Los_Angeles:20260425T110000
DTSTAMP:20260423T051341
CREATED:20260119T225025Z
LAST-MODIFIED:20260419T233915Z
UID:10000702-1777111200-1777114800@www.cnca06.org
SUMMARY:Archives Committee / Comité de Archivos
DESCRIPTION:Archives Committee / Comité de Archivos \nArchives Committee ( Hybrid ) – meets at 10:00am on the 3rd Saturday in February 2026 and December 2025/2026\, and on the 4th Saturday all other months of the year. \nAddress: Petaluma Community Center\, 320 N. McDowell Blvd.\, Petaluma\, CA 94954. \nZoom meeting ID: 987 0872 2632 \n  \nComité de Archivos (híbrido): se reúne a las 10:00 a.m. el 3er sábado en febrero y diciembre\, y el 4º sábado todos los demás meses del año. \nDirección: Centro Comunitario de Petaluma\, 320 N. McDowell Blvd.\, Petaluma\, CA 94954. \nID de la reunión de Zoom: 987 0872 2632
URL:https://www.cnca06.org/event/archives-committee-comision-de-archivos-2/2026-04-25
LOCATION:Petaluma Community Center\, 320 N. McDowell Blvd.\, Petaluma\, United States
CATEGORIES:Committees
END:VEVENT
BEGIN:VEVENT
DTSTART;TZID=America/Los_Angeles:20260425T110000
DTEND;TZID=America/Los_Angeles:20260425T120000
DTSTAMP:20260423T051341
CREATED:20250410T231756Z
LAST-MODIFIED:20250925T152508Z
UID:10000716-1777114800-1777118400@www.cnca06.org
SUMMARY:Accessibilities Committee / Comité de Accesibilidad
DESCRIPTION:Accessibilities Committee / Comité de Accesibilidad  [Hybrid] \n  \nAccessibilities Committee ( Hybrid ) – meets on the 3rd Saturday in February 2026 and December 2025/2026\, and on the 4th Saturday all other months of the year. \nAddress: Petaluma Community Center\, 320 N. McDowell Blvd.\, Petaluma\, CA 94954. \nZoom meeting ID: 987 0872 2632 \n  \nComité de Accesibilidad ( Híbrido ): se reúne el 3er sábado en enero y diciembre\, y el 4º sábado todos los demás meses del año. \nDirección: Centro Comunitario de Petaluma\, 320 N. McDowell Blvd.\, Petaluma\, CA 94954. \nID de la reunión de Zoom: 987 0872 2632
URL:https://www.cnca06.org/event/accessibilities-committee-comite-de-accesibilidad/2026-04-25
LOCATION:Petaluma Community Center\, 320 N. McDowell Blvd.\, Petaluma\, United States
CATEGORIES:Committees
END:VEVENT
BEGIN:VEVENT
DTSTART;TZID=America/Los_Angeles:20260425T110000
DTEND;TZID=America/Los_Angeles:20260425T120000
DTSTAMP:20260423T051341
CREATED:20260119T225625Z
LAST-MODIFIED:20260119T225625Z
UID:10000728-1777114800-1777118400@www.cnca06.org
SUMMARY:Finance Committee / Comité de Finanzas
DESCRIPTION:Finance Committee / Comité de Finanzas \nFinance Committee – meets in person and Hybrid when necessary\, at 11:00am on the 3rd Saturday in February and December\, and on the 4th Saturday all other months of the year.  The Finance Committee is a closed meeting. \nAddress: Petaluma Community Center\, 320 N. McDowell Blvd.\, Petaluma\, CA 94954. \n  \nComité de Finanzas: se reúne en persona e híbrido cuando sea necesario\, a las 11:00 a.m. el 3er sábado en febrero y diciembre\, y el 4º sábado todos los demás meses del año.  El Comité de Finanzas es una reunión cerrada. \nDirección: Centro Comunitario de Petaluma\, 320 N. McDowell Blvd.\, Petaluma\, CA 94954. \n 
URL:https://www.cnca06.org/event/finance-committee-comite-de-finanzas-2/2026-04-25
LOCATION:Petaluma Community Center\, 320 N. McDowell Blvd.\, Petaluma\, United States
CATEGORIES:Committees
END:VEVENT
END:VCALENDAR