BEGIN:VCALENDAR
VERSION:2.0
PRODID:-//CNCA 06 - ECPv6.15.20//NONSGML v1.0//EN
CALSCALE:GREGORIAN
METHOD:PUBLISH
X-WR-CALNAME:CNCA 06
X-ORIGINAL-URL:https://www.cnca06.org
X-WR-CALDESC:Events for CNCA 06
REFRESH-INTERVAL;VALUE=DURATION:PT1H
X-Robots-Tag:noindex
X-PUBLISHED-TTL:PT1H
BEGIN:VTIMEZONE
TZID:America/Los_Angeles
BEGIN:DAYLIGHT
TZOFFSETFROM:-0800
TZOFFSETTO:-0700
TZNAME:PDT
DTSTART:20200308T100000
END:DAYLIGHT
BEGIN:STANDARD
TZOFFSETFROM:-0700
TZOFFSETTO:-0800
TZNAME:PST
DTSTART:20201101T090000
END:STANDARD
BEGIN:DAYLIGHT
TZOFFSETFROM:-0800
TZOFFSETTO:-0700
TZNAME:PDT
DTSTART:20210314T100000
END:DAYLIGHT
BEGIN:STANDARD
TZOFFSETFROM:-0700
TZOFFSETTO:-0800
TZNAME:PST
DTSTART:20211107T090000
END:STANDARD
BEGIN:DAYLIGHT
TZOFFSETFROM:-0800
TZOFFSETTO:-0700
TZNAME:PDT
DTSTART:20220313T100000
END:DAYLIGHT
BEGIN:STANDARD
TZOFFSETFROM:-0700
TZOFFSETTO:-0800
TZNAME:PST
DTSTART:20221106T090000
END:STANDARD
BEGIN:DAYLIGHT
TZOFFSETFROM:-0800
TZOFFSETTO:-0700
TZNAME:PDT
DTSTART:20230312T100000
END:DAYLIGHT
BEGIN:STANDARD
TZOFFSETFROM:-0700
TZOFFSETTO:-0800
TZNAME:PST
DTSTART:20231105T090000
END:STANDARD
BEGIN:DAYLIGHT
TZOFFSETFROM:-0800
TZOFFSETTO:-0700
TZNAME:PDT
DTSTART:20240310T100000
END:DAYLIGHT
BEGIN:STANDARD
TZOFFSETFROM:-0700
TZOFFSETTO:-0800
TZNAME:PST
DTSTART:20241103T090000
END:STANDARD
BEGIN:DAYLIGHT
TZOFFSETFROM:-0800
TZOFFSETTO:-0700
TZNAME:PDT
DTSTART:20250309T100000
END:DAYLIGHT
BEGIN:STANDARD
TZOFFSETFROM:-0700
TZOFFSETTO:-0800
TZNAME:PST
DTSTART:20251102T090000
END:STANDARD
END:VTIMEZONE
BEGIN:VEVENT
DTSTART;VALUE=DATE:20240301
DTEND;VALUE=DATE:20240304
DTSTAMP:20260420T045405
CREATED:20231108T162124Z
LAST-MODIFIED:20231108T164138Z
UID:10000393-1709251200-1709510399@www.cnca06.org
SUMMARY:PRAASA 2024
DESCRIPTION:Welcome to the Pacific Region AA Service Assembly 2024 (PRAASA) \nMarch 1st – 3rd\, 2024 San Francisco CA \nMarriott Marquis Hotel         780 Mission St\, San Francisco\, CA 94103 \nLink to PRAASA 2024 Website \nLink to PRAASA 2024 Registration \nEnlace al Registro PRAASA 2024 \nHosted by California Northern Coastal Area 06 (CNCA06) \n 
URL:https://www.cnca06.org/event/praasa-2024
LOCATION:Marriott Marquis San Francisco\, 780 Mission St\, San Francisco\, CA\, 94103\, United States
CATEGORIES:PRAASA
END:VEVENT
BEGIN:VEVENT
DTSTART;TZID=America/Los_Angeles:20230303T080000
DTEND;TZID=America/Los_Angeles:20230305T170000
DTSTAMP:20260420T045405
CREATED:20221109T233506Z
LAST-MODIFIED:20221109T234915Z
UID:10000118-1677830400-1678035600@www.cnca06.org
SUMMARY:PRAASA 2023 Los Angeles
DESCRIPTION:
URL:https://www.cnca06.org/event/praasa-2023-los-angeles
LOCATION:CA
CATEGORIES:PRAASA
END:VEVENT
BEGIN:VEVENT
DTSTART;VALUE=DATE:20220304
DTEND;VALUE=DATE:20220307
DTSTAMP:20260420T045405
CREATED:20210914T221728Z
LAST-MODIFIED:20220307T040253Z
UID:10000041-1646352000-1646611199@www.cnca06.org
SUMMARY:PRAASA 2022 - Pacific Region Alcoholics Anonymous Service Assembly / Asamblea de Servicio de Alcohólicos Anónimos de la Región del Pacifico
DESCRIPTION:PRAASA 2022 \nPRAASA 2022\nPacific Region Alcoholics Anonymous Service Assembly \nMarch 4 – 6\, 2022 \nPortland\, Oregon\nVirtual – Via Zoom\nRegister Online Now ! \nwww.praasa.org \nAsamblea de Servicio de Alcohólicos Anónimos de la Región del Pacifico \nMarzo 4 – 6 del 2022 \nPortland\, Oregon\nVirtual – Via Zoom\n¡Regístrese en línea ahora! \nwww.praasa.org \n 
URL:https://www.cnca06.org/event/praasa-2022-pacific-region-alcoholics-anonymous-service-assembly-asamblea-de-servicio-de-alcoholicos-anonimos-de-la-region-del-pacifico-2022-03-04
LOCATION:CA
CATEGORIES:PRAASA
END:VEVENT
BEGIN:VEVENT
DTSTART;VALUE=DATE:20220204
DTEND;VALUE=DATE:20220205
DTSTAMP:20260420T045405
CREATED:20210914T221728Z
LAST-MODIFIED:20220307T035736Z
UID:10000039-1643932800-1644019199@www.cnca06.org
SUMMARY:PRAASA 2022 - Pacific Region Alcoholics Anonymous Service Assembly / Asamblea de Servicio de Alcohólicos Anónimos de la Región del Pacifico
DESCRIPTION:PRAASA 2022 \n  \nPacific Region Alcoholics Anonymous Service Assembly \nMarch 4 – 6\, 2022 \nPortland\, Oregon \nVirtual – Via Zoom \nRegister Online Now ! \nwww.praasa.com \n  \nAsamblea de Servicio de Alcohólicos Anónimos de la Región del Pacifico \nMarzo 4 – 6 del 2022 \nPortland\, Oregon \nVirtual – Via Zoom \n¡Regístrese en línea ahora! \nwww.praasa.com \n 
URL:https://www.cnca06.org/event/praasa-2022-pacific-region-alcoholics-anonymous-service-assembly-asamblea-de-servicio-de-alcoholicos-anonimos-de-la-region-del-pacifico/2022-02-04
LOCATION:CA
CATEGORIES:PRAASA
END:VEVENT
BEGIN:VEVENT
DTSTART;VALUE=DATE:20220104
DTEND;VALUE=DATE:20220105
DTSTAMP:20260420T045405
CREATED:20210914T221728Z
LAST-MODIFIED:20220307T035736Z
UID:10000038-1641254400-1641340799@www.cnca06.org
SUMMARY:PRAASA 2022 - Pacific Region Alcoholics Anonymous Service Assembly / Asamblea de Servicio de Alcohólicos Anónimos de la Región del Pacifico
DESCRIPTION:PRAASA 2022 \n  \nPacific Region Alcoholics Anonymous Service Assembly \nMarch 4 – 6\, 2022 \nPortland\, Oregon \nVirtual – Via Zoom \nRegister Online Now ! \nwww.praasa.com \n  \nAsamblea de Servicio de Alcohólicos Anónimos de la Región del Pacifico \nMarzo 4 – 6 del 2022 \nPortland\, Oregon \nVirtual – Via Zoom \n¡Regístrese en línea ahora! \nwww.praasa.com \n 
URL:https://www.cnca06.org/event/praasa-2022-pacific-region-alcoholics-anonymous-service-assembly-asamblea-de-servicio-de-alcoholicos-anonimos-de-la-region-del-pacifico/2022-01-04
LOCATION:CA
CATEGORIES:PRAASA
END:VEVENT
BEGIN:VEVENT
DTSTART;VALUE=DATE:20211204
DTEND;VALUE=DATE:20211205
DTSTAMP:20260420T045405
CREATED:20210914T221728Z
LAST-MODIFIED:20220307T035736Z
UID:10000037-1638576000-1638662399@www.cnca06.org
SUMMARY:PRAASA 2022 - Pacific Region Alcoholics Anonymous Service Assembly / Asamblea de Servicio de Alcohólicos Anónimos de la Región del Pacifico
DESCRIPTION:PRAASA 2022 \n  \nPacific Region Alcoholics Anonymous Service Assembly \nMarch 4 – 6\, 2022 \nPortland\, Oregon \nVirtual – Via Zoom \nRegister Online Now ! \nwww.praasa.com \n  \nAsamblea de Servicio de Alcohólicos Anónimos de la Región del Pacifico \nMarzo 4 – 6 del 2022 \nPortland\, Oregon \nVirtual – Via Zoom \n¡Regístrese en línea ahora! \nwww.praasa.com \n 
URL:https://www.cnca06.org/event/praasa-2022-pacific-region-alcoholics-anonymous-service-assembly-asamblea-de-servicio-de-alcoholicos-anonimos-de-la-region-del-pacifico/2021-12-04
LOCATION:CA
CATEGORIES:PRAASA
END:VEVENT
BEGIN:VEVENT
DTSTART;VALUE=DATE:20211104
DTEND;VALUE=DATE:20211105
DTSTAMP:20260420T045405
CREATED:20210914T221728Z
LAST-MODIFIED:20220307T035736Z
UID:10000036-1635984000-1636070399@www.cnca06.org
SUMMARY:PRAASA 2022 - Pacific Region Alcoholics Anonymous Service Assembly / Asamblea de Servicio de Alcohólicos Anónimos de la Región del Pacifico
DESCRIPTION:PRAASA 2022 \n  \nPacific Region Alcoholics Anonymous Service Assembly \nMarch 4 – 6\, 2022 \nPortland\, Oregon \nVirtual – Via Zoom \nRegister Online Now ! \nwww.praasa.com \n  \nAsamblea de Servicio de Alcohólicos Anónimos de la Región del Pacifico \nMarzo 4 – 6 del 2022 \nPortland\, Oregon \nVirtual – Via Zoom \n¡Regístrese en línea ahora! \nwww.praasa.com \n 
URL:https://www.cnca06.org/event/praasa-2022-pacific-region-alcoholics-anonymous-service-assembly-asamblea-de-servicio-de-alcoholicos-anonimos-de-la-region-del-pacifico/2021-11-04
LOCATION:CA
CATEGORIES:PRAASA
END:VEVENT
BEGIN:VEVENT
DTSTART;VALUE=DATE:20211004
DTEND;VALUE=DATE:20211005
DTSTAMP:20260420T045405
CREATED:20210914T221728Z
LAST-MODIFIED:20220307T035736Z
UID:10000035-1633305600-1633391999@www.cnca06.org
SUMMARY:PRAASA 2022 - Pacific Region Alcoholics Anonymous Service Assembly / Asamblea de Servicio de Alcohólicos Anónimos de la Región del Pacifico
DESCRIPTION:PRAASA 2022 \n  \nPacific Region Alcoholics Anonymous Service Assembly \nMarch 4 – 6\, 2022 \nPortland\, Oregon \nVirtual – Via Zoom \nRegister Online Now ! \nwww.praasa.com \n  \nAsamblea de Servicio de Alcohólicos Anónimos de la Región del Pacifico \nMarzo 4 – 6 del 2022 \nPortland\, Oregon \nVirtual – Via Zoom \n¡Regístrese en línea ahora! \nwww.praasa.com \n 
URL:https://www.cnca06.org/event/praasa-2022-pacific-region-alcoholics-anonymous-service-assembly-asamblea-de-servicio-de-alcoholicos-anonimos-de-la-region-del-pacifico/2021-10-04
LOCATION:CA
CATEGORIES:PRAASA
END:VEVENT
BEGIN:VEVENT
DTSTART;VALUE=DATE:20210904
DTEND;VALUE=DATE:20210905
DTSTAMP:20260420T045405
CREATED:20210914T221728Z
LAST-MODIFIED:20220307T035736Z
UID:10000034-1630713600-1630799999@www.cnca06.org
SUMMARY:PRAASA 2022 - Pacific Region Alcoholics Anonymous Service Assembly / Asamblea de Servicio de Alcohólicos Anónimos de la Región del Pacifico
DESCRIPTION:PRAASA 2022 \n  \nPacific Region Alcoholics Anonymous Service Assembly \nMarch 4 – 6\, 2022 \nPortland\, Oregon \nVirtual – Via Zoom \nRegister Online Now ! \nwww.praasa.com \n  \nAsamblea de Servicio de Alcohólicos Anónimos de la Región del Pacifico \nMarzo 4 – 6 del 2022 \nPortland\, Oregon \nVirtual – Via Zoom \n¡Regístrese en línea ahora! \nwww.praasa.com \n 
URL:https://www.cnca06.org/event/praasa-2022-pacific-region-alcoholics-anonymous-service-assembly-asamblea-de-servicio-de-alcoholicos-anonimos-de-la-region-del-pacifico/2021-09-04
LOCATION:CA
CATEGORIES:PRAASA
END:VEVENT
END:VCALENDAR