BEGIN:VCALENDAR
VERSION:2.0
PRODID:-//CNCA 06 - ECPv6.15.20//NONSGML v1.0//EN
CALSCALE:GREGORIAN
METHOD:PUBLISH
X-WR-CALNAME:CNCA 06
X-ORIGINAL-URL:https://www.cnca06.org
X-WR-CALDESC:Events for CNCA 06
REFRESH-INTERVAL;VALUE=DURATION:PT1H
X-Robots-Tag:noindex
X-PUBLISHED-TTL:PT1H
BEGIN:VTIMEZONE
TZID:America/New_York
BEGIN:DAYLIGHT
TZOFFSETFROM:-0500
TZOFFSETTO:-0400
TZNAME:EDT
DTSTART:20210314T070000
END:DAYLIGHT
BEGIN:STANDARD
TZOFFSETFROM:-0400
TZOFFSETTO:-0500
TZNAME:EST
DTSTART:20211107T060000
END:STANDARD
BEGIN:DAYLIGHT
TZOFFSETFROM:-0500
TZOFFSETTO:-0400
TZNAME:EDT
DTSTART:20220313T070000
END:DAYLIGHT
BEGIN:STANDARD
TZOFFSETFROM:-0400
TZOFFSETTO:-0500
TZNAME:EST
DTSTART:20221106T060000
END:STANDARD
BEGIN:DAYLIGHT
TZOFFSETFROM:-0500
TZOFFSETTO:-0400
TZNAME:EDT
DTSTART:20230312T070000
END:DAYLIGHT
BEGIN:STANDARD
TZOFFSETFROM:-0400
TZOFFSETTO:-0500
TZNAME:EST
DTSTART:20231105T060000
END:STANDARD
END:VTIMEZONE
BEGIN:VEVENT
DTSTART;TZID=America/New_York:20220716T110000
DTEND;TZID=America/New_York:20220716T190000
DTSTAMP:20260420T030606
CREATED:20220316T211014Z
LAST-MODIFIED:20220316T211803Z
UID:10000117-1657969200-1657998000@www.cnca06.org
SUMMARY:Foro Especial Norte/Sur sobre Comunicades Remotas 2022
DESCRIPTION:NS Anuncio ESP Flyer+             NS Announcement ENG Flyer+ \nForo Especial Norte/Sur sobre Comunicades Remotas 2022 \nNorth/South Special Forum about Remote Communities \nBeyond Language\, Culture & Geography: Sobriety Within Everybody’s Reach \nSaturday July 16th 11:00am – 7:00pm EDT (Please note Time Zone is Eastern Daylight. Pacific Daylight Time: 8:00am – 4:00pm)
URL:https://www.cnca06.org/event/foro-especial-norte-sur-sobre-comunicades-remotas-2022
END:VEVENT
END:VCALENDAR