BEGIN:VCALENDAR
VERSION:2.0
PRODID:-//CNCA 06 - ECPv6.15.20//NONSGML v1.0//EN
CALSCALE:GREGORIAN
METHOD:PUBLISH
X-ORIGINAL-URL:https://www.cnca06.org
X-WR-CALDESC:Events for CNCA 06
REFRESH-INTERVAL;VALUE=DURATION:PT1H
X-Robots-Tag:noindex
X-PUBLISHED-TTL:PT1H
BEGIN:VTIMEZONE
TZID:America/Los_Angeles
BEGIN:DAYLIGHT
TZOFFSETFROM:-0800
TZOFFSETTO:-0700
TZNAME:PDT
DTSTART:20240310T100000
END:DAYLIGHT
BEGIN:STANDARD
TZOFFSETFROM:-0700
TZOFFSETTO:-0800
TZNAME:PST
DTSTART:20241103T090000
END:STANDARD
BEGIN:DAYLIGHT
TZOFFSETFROM:-0800
TZOFFSETTO:-0700
TZNAME:PDT
DTSTART:20250309T100000
END:DAYLIGHT
BEGIN:STANDARD
TZOFFSETFROM:-0700
TZOFFSETTO:-0800
TZNAME:PST
DTSTART:20251102T090000
END:STANDARD
BEGIN:DAYLIGHT
TZOFFSETFROM:-0800
TZOFFSETTO:-0700
TZNAME:PDT
DTSTART:20260308T100000
END:DAYLIGHT
BEGIN:STANDARD
TZOFFSETFROM:-0700
TZOFFSETTO:-0800
TZNAME:PST
DTSTART:20261101T090000
END:STANDARD
BEGIN:DAYLIGHT
TZOFFSETFROM:-0800
TZOFFSETTO:-0700
TZNAME:PDT
DTSTART:20270314T100000
END:DAYLIGHT
BEGIN:STANDARD
TZOFFSETFROM:-0700
TZOFFSETTO:-0800
TZNAME:PST
DTSTART:20271107T090000
END:STANDARD
END:VTIMEZONE
BEGIN:VEVENT
DTSTART;TZID=America/Los_Angeles:20260328T100000
DTEND;TZID=America/Los_Angeles:20260328T110000
DTSTAMP:20260420T053250
CREATED:20260119T225025Z
LAST-MODIFIED:20260419T233915Z
UID:10000701-1774692000-1774695600@www.cnca06.org
SUMMARY:Archives Committee / Comité de Archivos
DESCRIPTION:Archives Committee / Comité de Archivos \nArchives Committee ( Hybrid ) – meets at 10:00am on the 3rd Saturday in February 2026 and December 2025/2026\, and on the 4th Saturday all other months of the year. \nAddress: Petaluma Community Center\, 320 N. McDowell Blvd.\, Petaluma\, CA 94954. \nZoom meeting ID: 987 0872 2632 \n  \nComité de Archivos (híbrido): se reúne a las 10:00 a.m. el 3er sábado en febrero y diciembre\, y el 4º sábado todos los demás meses del año. \nDirección: Centro Comunitario de Petaluma\, 320 N. McDowell Blvd.\, Petaluma\, CA 94954. \nID de la reunión de Zoom: 987 0872 2632
URL:https://www.cnca06.org/event/archives-committee-comision-de-archivos-2/2026-03-28
LOCATION:Petaluma Community Center\, 320 N. McDowell Blvd.\, Petaluma\, United States
CATEGORIES:Committees
END:VEVENT
BEGIN:VEVENT
DTSTART;TZID=America/Los_Angeles:20260221T100000
DTEND;TZID=America/Los_Angeles:20260221T110000
DTSTAMP:20260420T053250
CREATED:20260119T225025Z
LAST-MODIFIED:20260419T233915Z
UID:10000760-1771668000-1771671600@www.cnca06.org
SUMMARY:Archives Committee / Comité de Archivos
DESCRIPTION:Archives Committee / Comité de Archivos \nArchives Committee ( Hybrid ) – meets at 10:00am on the 3rd Saturday in February 2026 and December 2025/2026\, and on the 4th Saturday all other months of the year. \nAddress: Petaluma Community Center\, 320 N. McDowell Blvd.\, Petaluma\, CA 94954. \nZoom meeting ID: 987 0872 2632 \n  \nComité de Archivos (híbrido): se reúne a las 10:00 a.m. el 3er sábado en febrero y diciembre\, y el 4º sábado todos los demás meses del año. \nDirección: Centro Comunitario de Petaluma\, 320 N. McDowell Blvd.\, Petaluma\, CA 94954. \nID de la reunión de Zoom: 987 0872 2632
URL:https://www.cnca06.org/event/archives-committee-comision-de-archivos-2/2026-02-21
LOCATION:Petaluma Community Center\, 320 N. McDowell Blvd.\, Petaluma\, United States
CATEGORIES:Committees
END:VEVENT
BEGIN:VEVENT
DTSTART;TZID=America/Los_Angeles:20260124T100000
DTEND;TZID=America/Los_Angeles:20260124T110000
DTSTAMP:20260420T053250
CREATED:20260119T225025Z
LAST-MODIFIED:20260419T233915Z
UID:10000759-1769248800-1769252400@www.cnca06.org
SUMMARY:Archives Committee / Comité de Archivos
DESCRIPTION:Archives Committee / Comité de Archivos \nArchives Committee ( Hybrid ) – meets at 10:00am on the 3rd Saturday in February 2026 and December 2025/2026\, and on the 4th Saturday all other months of the year. \nAddress: Petaluma Community Center\, 320 N. McDowell Blvd.\, Petaluma\, CA 94954. \nZoom meeting ID: 987 0872 2632 \n  \nComité de Archivos (híbrido): se reúne a las 10:00 a.m. el 3er sábado en febrero y diciembre\, y el 4º sábado todos los demás meses del año. \nDirección: Centro Comunitario de Petaluma\, 320 N. McDowell Blvd.\, Petaluma\, CA 94954. \nID de la reunión de Zoom: 987 0872 2632
URL:https://www.cnca06.org/event/archives-committee-comision-de-archivos-2/2026-01-24
LOCATION:Petaluma Community Center\, 320 N. McDowell Blvd.\, Petaluma\, United States
CATEGORIES:Committees
END:VEVENT
BEGIN:VEVENT
DTSTART;TZID=America/Los_Angeles:20251220T100000
DTEND;TZID=America/Los_Angeles:20251220T110000
DTSTAMP:20260420T053250
CREATED:20250411T212519Z
LAST-MODIFIED:20250925T153453Z
UID:10000711-1766224800-1766228400@www.cnca06.org
SUMMARY:Archives Committee / Comisión de Archivos
DESCRIPTION:Archives Committee / Comisión de Archivos \nArchives Committee ( Hybrid ) – meets at 10:00am on the 3rd Saturday in February 2026 and December 2025/2026\, and on the 4th Saturday all other months of the year. \nAddress: Petaluma Community Center\, 320 N. McDowell Blvd.\, Petaluma\, CA 94954. \nZoom meeting ID: 987 0872 2632 \n  \nComité de Archivos (híbrido): se reúne a las 10:00 a.m. el 3er sábado en enero y diciembre\, y el 4º sábado todos los demás meses del año. \nDirección: Centro Comunitario de Petaluma\, 320 N. McDowell Blvd.\, Petaluma\, CA 94954. \nID de la reunión de Zoom: 987 0872 2632
URL:https://www.cnca06.org/event/archives-committee-comision-de-archivos/2025-12-20
LOCATION:Petaluma Community Center\, 320 N. McDowell Blvd.\, Petaluma\, United States
CATEGORIES:Committees
END:VEVENT
BEGIN:VEVENT
DTSTART;TZID=America/Los_Angeles:20251122T100000
DTEND;TZID=America/Los_Angeles:20251122T110000
DTSTAMP:20260420T053250
CREATED:20250411T212519Z
LAST-MODIFIED:20250925T153453Z
UID:10000526-1763805600-1763809200@www.cnca06.org
SUMMARY:Archives Committee / Comisión de Archivos
DESCRIPTION:Archives Committee / Comisión de Archivos \nArchives Committee ( Hybrid ) – meets at 10:00am on the 3rd Saturday in February 2026 and December 2025/2026\, and on the 4th Saturday all other months of the year. \nAddress: Petaluma Community Center\, 320 N. McDowell Blvd.\, Petaluma\, CA 94954. \nZoom meeting ID: 987 0872 2632 \n  \nComité de Archivos (híbrido): se reúne a las 10:00 a.m. el 3er sábado en enero y diciembre\, y el 4º sábado todos los demás meses del año. \nDirección: Centro Comunitario de Petaluma\, 320 N. McDowell Blvd.\, Petaluma\, CA 94954. \nID de la reunión de Zoom: 987 0872 2632
URL:https://www.cnca06.org/event/archives-committee-comision-de-archivos/2025-11-22
LOCATION:Petaluma Community Center\, 320 N. McDowell Blvd.\, Petaluma\, United States
CATEGORIES:Committees
END:VEVENT
BEGIN:VEVENT
DTSTART;TZID=America/Los_Angeles:20251025T100000
DTEND;TZID=America/Los_Angeles:20251025T110000
DTSTAMP:20260420T053250
CREATED:20250411T212519Z
LAST-MODIFIED:20250925T153453Z
UID:10000525-1761386400-1761390000@www.cnca06.org
SUMMARY:Archives Committee / Comisión de Archivos
DESCRIPTION:Archives Committee / Comisión de Archivos \nArchives Committee ( Hybrid ) – meets at 10:00am on the 3rd Saturday in February 2026 and December 2025/2026\, and on the 4th Saturday all other months of the year. \nAddress: Petaluma Community Center\, 320 N. McDowell Blvd.\, Petaluma\, CA 94954. \nZoom meeting ID: 987 0872 2632 \n  \nComité de Archivos (híbrido): se reúne a las 10:00 a.m. el 3er sábado en enero y diciembre\, y el 4º sábado todos los demás meses del año. \nDirección: Centro Comunitario de Petaluma\, 320 N. McDowell Blvd.\, Petaluma\, CA 94954. \nID de la reunión de Zoom: 987 0872 2632
URL:https://www.cnca06.org/event/archives-committee-comision-de-archivos/2025-10-25
LOCATION:Petaluma Community Center\, 320 N. McDowell Blvd.\, Petaluma\, United States
CATEGORIES:Committees
END:VEVENT
BEGIN:VEVENT
DTSTART;TZID=America/Los_Angeles:20250927T100000
DTEND;TZID=America/Los_Angeles:20250927T110000
DTSTAMP:20260420T053250
CREATED:20250411T212519Z
LAST-MODIFIED:20250925T153453Z
UID:10000524-1758967200-1758970800@www.cnca06.org
SUMMARY:Archives Committee / Comisión de Archivos
DESCRIPTION:Archives Committee / Comisión de Archivos \nArchives Committee ( Hybrid ) – meets at 10:00am on the 3rd Saturday in February 2026 and December 2025/2026\, and on the 4th Saturday all other months of the year. \nAddress: Petaluma Community Center\, 320 N. McDowell Blvd.\, Petaluma\, CA 94954. \nZoom meeting ID: 987 0872 2632 \n  \nComité de Archivos (híbrido): se reúne a las 10:00 a.m. el 3er sábado en enero y diciembre\, y el 4º sábado todos los demás meses del año. \nDirección: Centro Comunitario de Petaluma\, 320 N. McDowell Blvd.\, Petaluma\, CA 94954. \nID de la reunión de Zoom: 987 0872 2632
URL:https://www.cnca06.org/event/archives-committee-comision-de-archivos/2025-09-27
LOCATION:Petaluma Community Center\, 320 N. McDowell Blvd.\, Petaluma\, United States
CATEGORIES:Committees
END:VEVENT
BEGIN:VEVENT
DTSTART;TZID=America/Los_Angeles:20250823T100000
DTEND;TZID=America/Los_Angeles:20250823T110000
DTSTAMP:20260420T053250
CREATED:20250411T212519Z
LAST-MODIFIED:20250925T153453Z
UID:10000523-1755943200-1755946800@www.cnca06.org
SUMMARY:Archives Committee / Comisión de Archivos
DESCRIPTION:Archives Committee / Comisión de Archivos \nArchives Committee ( Hybrid ) – meets at 10:00am on the 3rd Saturday in February 2026 and December 2025/2026\, and on the 4th Saturday all other months of the year. \nAddress: Petaluma Community Center\, 320 N. McDowell Blvd.\, Petaluma\, CA 94954. \nZoom meeting ID: 987 0872 2632 \n  \nComité de Archivos (híbrido): se reúne a las 10:00 a.m. el 3er sábado en enero y diciembre\, y el 4º sábado todos los demás meses del año. \nDirección: Centro Comunitario de Petaluma\, 320 N. McDowell Blvd.\, Petaluma\, CA 94954. \nID de la reunión de Zoom: 987 0872 2632
URL:https://www.cnca06.org/event/archives-committee-comision-de-archivos/2025-08-23
LOCATION:Petaluma Community Center\, 320 N. McDowell Blvd.\, Petaluma\, United States
CATEGORIES:Committees
END:VEVENT
BEGIN:VEVENT
DTSTART;TZID=America/Los_Angeles:20250726T100000
DTEND;TZID=America/Los_Angeles:20250726T110000
DTSTAMP:20260420T053250
CREATED:20250411T212519Z
LAST-MODIFIED:20250925T153453Z
UID:10000522-1753524000-1753527600@www.cnca06.org
SUMMARY:Archives Committee / Comisión de Archivos
DESCRIPTION:Archives Committee / Comisión de Archivos \nArchives Committee ( Hybrid ) – meets at 10:00am on the 3rd Saturday in February 2026 and December 2025/2026\, and on the 4th Saturday all other months of the year. \nAddress: Petaluma Community Center\, 320 N. McDowell Blvd.\, Petaluma\, CA 94954. \nZoom meeting ID: 987 0872 2632 \n  \nComité de Archivos (híbrido): se reúne a las 10:00 a.m. el 3er sábado en enero y diciembre\, y el 4º sábado todos los demás meses del año. \nDirección: Centro Comunitario de Petaluma\, 320 N. McDowell Blvd.\, Petaluma\, CA 94954. \nID de la reunión de Zoom: 987 0872 2632
URL:https://www.cnca06.org/event/archives-committee-comision-de-archivos/2025-07-26
LOCATION:Petaluma Community Center\, 320 N. McDowell Blvd.\, Petaluma\, United States
CATEGORIES:Committees
END:VEVENT
BEGIN:VEVENT
DTSTART;TZID=America/Los_Angeles:20250628T100000
DTEND;TZID=America/Los_Angeles:20250628T110000
DTSTAMP:20260420T053250
CREATED:20250411T212519Z
LAST-MODIFIED:20250925T153453Z
UID:10000521-1751104800-1751108400@www.cnca06.org
SUMMARY:Archives Committee / Comisión de Archivos
DESCRIPTION:Archives Committee / Comisión de Archivos \nArchives Committee ( Hybrid ) – meets at 10:00am on the 3rd Saturday in February 2026 and December 2025/2026\, and on the 4th Saturday all other months of the year. \nAddress: Petaluma Community Center\, 320 N. McDowell Blvd.\, Petaluma\, CA 94954. \nZoom meeting ID: 987 0872 2632 \n  \nComité de Archivos (híbrido): se reúne a las 10:00 a.m. el 3er sábado en enero y diciembre\, y el 4º sábado todos los demás meses del año. \nDirección: Centro Comunitario de Petaluma\, 320 N. McDowell Blvd.\, Petaluma\, CA 94954. \nID de la reunión de Zoom: 987 0872 2632
URL:https://www.cnca06.org/event/archives-committee-comision-de-archivos/2025-06-28
LOCATION:Petaluma Community Center\, 320 N. McDowell Blvd.\, Petaluma\, United States
CATEGORIES:Committees
END:VEVENT
BEGIN:VEVENT
DTSTART;TZID=America/Los_Angeles:20250524T100000
DTEND;TZID=America/Los_Angeles:20250524T110000
DTSTAMP:20260420T053250
CREATED:20250411T212519Z
LAST-MODIFIED:20250925T153453Z
UID:10000520-1748080800-1748084400@www.cnca06.org
SUMMARY:Archives Committee / Comisión de Archivos
DESCRIPTION:Archives Committee / Comisión de Archivos \nArchives Committee ( Hybrid ) – meets at 10:00am on the 3rd Saturday in February 2026 and December 2025/2026\, and on the 4th Saturday all other months of the year. \nAddress: Petaluma Community Center\, 320 N. McDowell Blvd.\, Petaluma\, CA 94954. \nZoom meeting ID: 987 0872 2632 \n  \nComité de Archivos (híbrido): se reúne a las 10:00 a.m. el 3er sábado en enero y diciembre\, y el 4º sábado todos los demás meses del año. \nDirección: Centro Comunitario de Petaluma\, 320 N. McDowell Blvd.\, Petaluma\, CA 94954. \nID de la reunión de Zoom: 987 0872 2632
URL:https://www.cnca06.org/event/archives-committee-comision-de-archivos/2025-05-24
LOCATION:Petaluma Community Center\, 320 N. McDowell Blvd.\, Petaluma\, United States
CATEGORIES:Committees
END:VEVENT
BEGIN:VEVENT
DTSTART;TZID=America/Los_Angeles:20250426T100000
DTEND;TZID=America/Los_Angeles:20250426T110000
DTSTAMP:20260420T053250
CREATED:20250411T212519Z
LAST-MODIFIED:20250925T153453Z
UID:10000519-1745661600-1745665200@www.cnca06.org
SUMMARY:Archives Committee / Comisión de Archivos
DESCRIPTION:Archives Committee / Comisión de Archivos \nArchives Committee ( Hybrid ) – meets at 10:00am on the 3rd Saturday in February 2026 and December 2025/2026\, and on the 4th Saturday all other months of the year. \nAddress: Petaluma Community Center\, 320 N. McDowell Blvd.\, Petaluma\, CA 94954. \nZoom meeting ID: 987 0872 2632 \n  \nComité de Archivos (híbrido): se reúne a las 10:00 a.m. el 3er sábado en enero y diciembre\, y el 4º sábado todos los demás meses del año. \nDirección: Centro Comunitario de Petaluma\, 320 N. McDowell Blvd.\, Petaluma\, CA 94954. \nID de la reunión de Zoom: 987 0872 2632
URL:https://www.cnca06.org/event/archives-committee-comision-de-archivos/2025-04-26
LOCATION:Petaluma Community Center\, 320 N. McDowell Blvd.\, Petaluma\, United States
CATEGORIES:Committees
END:VEVENT
END:VCALENDAR