BEGIN:VCALENDAR
VERSION:2.0
PRODID:-//CNCA 06 - ECPv6.15.20//NONSGML v1.0//EN
CALSCALE:GREGORIAN
METHOD:PUBLISH
X-WR-CALNAME:CNCA 06
X-ORIGINAL-URL:https://www.cnca06.org
X-WR-CALDESC:Events for CNCA 06
REFRESH-INTERVAL;VALUE=DURATION:PT1H
X-Robots-Tag:noindex
X-PUBLISHED-TTL:PT1H
BEGIN:VTIMEZONE
TZID:America/Los_Angeles
BEGIN:DAYLIGHT
TZOFFSETFROM:-0800
TZOFFSETTO:-0700
TZNAME:PDT
DTSTART:20250309T100000
END:DAYLIGHT
BEGIN:STANDARD
TZOFFSETFROM:-0700
TZOFFSETTO:-0800
TZNAME:PST
DTSTART:20251102T090000
END:STANDARD
BEGIN:DAYLIGHT
TZOFFSETFROM:-0800
TZOFFSETTO:-0700
TZNAME:PDT
DTSTART:20260308T100000
END:DAYLIGHT
BEGIN:STANDARD
TZOFFSETFROM:-0700
TZOFFSETTO:-0800
TZNAME:PST
DTSTART:20261101T090000
END:STANDARD
BEGIN:DAYLIGHT
TZOFFSETFROM:-0800
TZOFFSETTO:-0700
TZNAME:PDT
DTSTART:20270314T100000
END:DAYLIGHT
BEGIN:STANDARD
TZOFFSETFROM:-0700
TZOFFSETTO:-0800
TZNAME:PST
DTSTART:20271107T090000
END:STANDARD
END:VTIMEZONE
BEGIN:VEVENT
DTSTART;TZID=America/Los_Angeles:20260808T083000
DTEND;TZID=America/Los_Angeles:20260808T170000
DTSTAMP:20260425T210852
CREATED:20260325T174346Z
LAST-MODIFIED:20260416T172736Z
UID:10000863-1786177800-1786208400@www.cnca06.org
SUMMARY:Summer Assembly 2026 / Asamblea de Verano 2026
DESCRIPTION:Summer Assembly 2026 / Asamblea de Verano 2026 \nAssembly Flyer \nPre-Assembly Dinner Flyer \nAgenda English \n  \nVolante de La Asamblea \nCena previa a la conferencia y a la asamblea \nAgenda Español \n  \nSaturday\, August 8\, 2026 \nAmerican Legion Redwood City \n651 El Camino Real\, Redwood City\, CA 94063 \n  \nSábado 8 de Agosto del 2026 \nAmerican Legion Redwood City \n651 El Camino Real\, Redwood City\, CA 94063 \n  \nHybrid Zoom ID: 632 553 607 \nFor password\,  please contact your DCMC \n  \nPre-Conference Dinner information to come later/ \nLa información sobre la cena previa a la conferencia se proporcionará más adelante. \n 
URL:https://www.cnca06.org/event/summer-assembly-2026-asamblea-de-verano-2026
LOCATION:American Legion Redwood City\, 651 El Camino Real\, Redwood City\, 94063\, United States
CATEGORIES:Assembly
END:VEVENT
END:VCALENDAR